BEGIN:VCALENDAR
VERSION:2.0
PRODID:-//wp-events-plugin.com//7.2.3.1//EN
TZID:Europe/Dublin
X-WR-TIMEZONE:Europe/Dublin
BEGIN:VEVENT
UID:1-1255@shannonchamber.ie
DTSTART;TZID=Europe/Dublin:20250225T090000
DTEND;TZID=Europe/Dublin:20250225T130000
DTSTAMP:20250224T121657Z
URL:https://www.shannonchamber.ie/events/leadership-fit-for-the-future-of-
 work/
SUMMARY:Leadership Fit For The Future Of Work
DESCRIPTION:\nLeadership is evolving. It is no longer characterised by comm
 and and control or for the elite few. It is now a more human\, interactive
 \,  and self-authoring discipline but\, what will it be in the future?\nF
 ind out at this transformative half-day session\, where you will get an ov
 erview of the complexity and uncertainty leaders need to lead in. You will
  gain:\n\n 	A better understanding of the converging and seismic challenge
 s leaders have to make sense of\, and what it takes to build sustainable a
 nd healthy businesses in this context\;\n 	An overview of the critical min
 dsets and practices leaders need to thrive in this context\; and\n 	Insigh
 ts and strategies to navigate the seismic challenges of our time.\n\n&nbsp
 \;\n\nThis half-day session will be delivered by Dr. Marianne Roux. \n\n\
 n\nMarianne has over 30 years’ experience as a Management Consultant\, H
 R Executive\, Business School Professor and Board Director. She holds a PH
 D in Leadership from Swinburne University of Technology in Australia.\n\nS
 he currently runs Roux Consulting\, a leadership and transformation consul
 ting firm focusing on Strategy Facilitation\, Senior Leader\, Team and Boa
 rd development and HR and Organisational Transformation.\n\nShe teaches at
  several business schools around the world and is an associate at the IMI 
 and at Smurfit Business School.\n\nHer industry experience includes retail
 \, FMCG\, mining\, oil and gas\, public sector\, utilities\, infrastructur
 e\, media\, financial services\, telecommunications\, sport\, NFP\, health
  and pharmaceutical and tech start-ups.\n\nHer previous board roles includ
 e: The Edmund Rice Foundation Australia\, YGAP and Hagar (International an
 d Australia).\n\nMarianne has published books on 'Leadership Fit for the F
 uture of Work'\, 'Adaptive HR' and 'Knowing Your Superpowers is the Key to
  Your Success in a changing World'. She also hosts a podcast series called
  Breakthrough.\n\nShe was chosen as one of 52 Inspirational women at work 
 in South Africa in 2004\, one of 20 Female entrepreneurs by Management tod
 ay in 2011 in Australia and in 2015 she won the excellence in NFP consulti
 ng award from the Worldwide Who’s Who.\nPrice: Members €227/ Non-Membe
 rs €340.50 (incl. VAT per ticket)\nNote: Refreshments will be provided d
 uring breaks\, and a full lunch will be served after the event—all inclu
 ded in the ticket price.\nPlease book online to secure your place! 
ATTACH;FMTTYPE=image/jpeg:https://www.shannonchamber.ie/wp-content/uploads
 /2024/12/Marianne-Roux-Event-768x506-1.png
CATEGORIES:Events,Workshop
LOCATION:Radisson Blu Hotel & Spa\, Ennis Road\, Limerick\, Ireland
GEO:52.67348759999999;-8.668184600000018
X-APPLE-STRUCTURED-LOCATION;VALUE=URI;X-ADDRESS=Ennis Road\, Limerick\, Ire
 land;X-APPLE-RADIUS=100;X-TITLE=Radisson Blu Hotel & Spa:geo:52.6734875999
 9999,-8.668184600000018
END:VEVENT
BEGIN:VTIMEZONE
TZID:Europe/Dublin
X-LIC-LOCATION:Europe/Dublin
BEGIN:STANDARD
DTSTART:20241027T010000
TZOFFSETFROM:+0100
TZOFFSETTO:+0000
TZNAME:GMT
END:STANDARD
END:VTIMEZONE
END:VCALENDAR